BEGIN:VCALENDAR
PRODID:-//eluceo/ical//2.0/EN
VERSION:2.0
CALSCALE:GREGORIAN
BEGIN:VEVENT
UID:8ae494e50eadc6078d513fa393e833c0
DTSTAMP:20260425T154022Z
SUMMARY:Dr. Merens Derungs: Tokenization – The 16 Trillion Dollar Questio
 n
DESCRIPTION:Sprekers: Dr. Merens Derungs
URL:https://rotaryclubzurichplus.ch/nl/agenda/show/182458
DTSTART;TZID=Europe/Zurich:20250107T190000
DTEND;TZID=Europe/Zurich:20250107T213000
LOCATION:Hybrid: Zoom und im Clublokal Restaurant Weisser Wind\, Oberdorfst
 rasse 20\, 8001 Zürich\, Schweiz
CATEGORIES:Rotary
END:VEVENT
BEGIN:VTIMEZONE
TZID:Europe/Zurich
BEGIN:STANDARD
DTSTART:20250107T190000
TZNAME:CET
TZOFFSETTO:+0100
TZOFFSETFROM:+0100
END:STANDARD
END:VTIMEZONE
END:VCALENDAR
